BEGIN:VCALENDAR
PRODID:-//eluceo/ical//2.0/EN
VERSION:2.0
CALSCALE:GREGORIAN
BEGIN:VEVENT
UID:b2f2837295c932115393635c9c21f76c
DTSTAMP:20260422T154143Z
SUMMARY:Jewish-Muslim Dialogue
DESCRIPTION:Shaw JCC of Akron\nCalendar\nhttps://shawjcc.org/calendar/jewis
 h-muslim-dialogue-222095\n\nJews and Muslims: Challenges in Our Community\
 , Country and World. With Rabbi Eric Yoffie and Dr. Sayyid Syeed. FREE.\n\
 n \n\nSponsors: Temple Israel\; Jewish Community Board of Akron Community
  Relations Committee\; Islamic Society of Greater Akron and Kent\; Hillel 
 at Kent State
DTSTART;TZID=America/New_York:20170917T190000
DTEND;TZID=America/New_York:20170917T210000
END:VEVENT
END:VCALENDAR
