BEGIN:VCALENDAR
PRODID:-//eluceo/ical//2.0/EN
VERSION:2.0
CALSCALE:GREGORIAN
BEGIN:VEVENT
UID:f477c5cdd2e4608662abe48f5d78498d
DTSTAMP:20260422T022331Z
SUMMARY:Jewish Stories Class
DESCRIPTION:Shaw JCC of Akron\nCalendar\nhttps://shawjcc.org/calendar/jewis
 h-stories-class-feb19-336879\n\nJewish Stories from Latin America
DTSTART;TZID=America/New_York:20200219T111500
DTEND;TZID=America/New_York:20200219T124500
END:VEVENT
END:VCALENDAR
