BEGIN:VCALENDAR
PRODID:-//eluceo/ical//2.0/EN
VERSION:2.0
CALSCALE:GREGORIAN
BEGIN:VEVENT
UID:6aa0642e0ed784df5d4b3f97e201a36f
DTSTAMP:20260423T080808Z
SUMMARY:Jewish Stories Class
DESCRIPTION:Shaw JCC of Akron\nCalendar\nhttps://shawjcc.org/calendar/jewis
 h-stories-class-jan22-336874\n\nJewish Stories from Latin America
DTSTART;TZID=America/New_York:20200122T111500
DTEND;TZID=America/New_York:20200122T124500
END:VEVENT
END:VCALENDAR
