BEGIN:VCALENDAR
PRODID:-//eluceo/ical//2.0/EN
VERSION:2.0
CALSCALE:GREGORIAN
BEGIN:VEVENT
UID:e738d50af4eb76c3b679aefa3e985746
DTSTAMP:20260423T215404Z
SUMMARY:Jewish Stories Class
DESCRIPTION:Shaw JCC of Akron\nCalendar\nhttps://shawjcc.org/calendar/jewis
 h-stories-class-jan29-336875\n\nJewish Stories from Latin America
DTSTART;TZID=America/New_York:20200129T111500
DTEND;TZID=America/New_York:20200129T124500
END:VEVENT
END:VCALENDAR
