BEGIN:VCALENDAR
PRODID:-//eluceo/ical//2.0/EN
VERSION:2.0
CALSCALE:GREGORIAN
BEGIN:VEVENT
UID:542645e6bc92be3f1f21b6ee62a2fabf
DTSTAMP:20260421T135050Z
SUMMARY:Jewish Stories Class
DESCRIPTION:Shaw JCC of Akron\nCalendar\nhttps://shawjcc.org/calendar/jewis
 h-stories-class-may3-344154\n\nJewish Stories from Latin America
DTSTART;TZID=America/New_York:20200506T111500
DTEND;TZID=America/New_York:20200506T124500
END:VEVENT
END:VCALENDAR
