BEGIN:VCALENDAR
PRODID:-//eluceo/ical//2.0/EN
VERSION:2.0
CALSCALE:GREGORIAN
BEGIN:VEVENT
UID:f68a0933ca0df3ac6f533bd9f4d4163e
DTSTAMP:20260423T171243Z
SUMMARY:Jewish Traditions & Law on Death and Dying
DESCRIPTION:Shaw JCC of Akron\nCalendar\nhttps://shawjcc.org/calendar/jewis
 h-traditions-law-on-death-and-dying-89758\n\nReflections on End of Life: J
 ewish Traditions and Law on Death and Dying\n\n \n\n \n\nThis class is 
 the first in a series of 4 classes. Toby Rosen\, Chapter 13 Trustee\, and
  Jennifer Chestnut\, executive Director of Hillel at Kent State University
  will lead the discussion on Jewish traditions regarding death and dying.\
 n\nIn Judaism\, life is valued above almost all else. The Talmud notes t
 hat all people are descended from a single person\, thus taking a single l
 ife is like destroying an ent...
DTSTART;TZID=America/New_York:20141022T180000
DTEND;TZID=America/New_York:20141022T190000
END:VEVENT
END:VCALENDAR
