BEGIN:VCALENDAR
PRODID:-//eluceo/ical//2.0/EN
VERSION:2.0
CALSCALE:GREGORIAN
BEGIN:VEVENT
UID:ea1b6f808b697dd07ddd59f7ce750a00
DTSTAMP:20260421T135714Z
SUMMARY:JewishAkron Board Meeting
DESCRIPTION:Shaw JCC of Akron\nCalendar\nhttps://shawjcc.org/calendar/jewis
 hakron-board-meeting-2-445029\n\n.
DTSTART;TZID=America/New_York:20231017T173000
DTEND;TZID=America/New_York:20231017T190000
END:VEVENT
END:VCALENDAR
