BEGIN:VCALENDAR
PRODID:-//eluceo/ical//2.0/EN
VERSION:2.0
CALSCALE:GREGORIAN
BEGIN:VEVENT
UID:c5de66f699d71a532d69f4615ba14f30
DTSTAMP:20260425T130412Z
SUMMARY:JewishAkron Board Meeting
DESCRIPTION:Shaw JCC of Akron\nCalendar\nhttps://shawjcc.org/calendar/jewis
 hakron-board-meeting-3-445033\n\n.
DTSTART;TZID=America/New_York:20231115T173000
DTEND;TZID=America/New_York:20231115T190000
END:VEVENT
END:VCALENDAR
