BEGIN:VCALENDAR
PRODID:-//eluceo/ical//2.0/EN
VERSION:2.0
CALSCALE:GREGORIAN
BEGIN:VEVENT
UID:9786caa5d7aada2f1cdedcb88f734ab5
DTSTAMP:20260425T181241Z
SUMMARY:JewishAkron Board Meeting
DESCRIPTION:Shaw JCC of Akron\nCalendar\nhttps://shawjcc.org/calendar/jewis
 hakron-board-meeting-4-30-26-493407\n\nMeeting of the JewishAkron Board of
  Trustees
DTSTART;TZID=America/New_York:20260430T173000
DTEND;TZID=America/New_York:20260430T190000
END:VEVENT
END:VCALENDAR
