BEGIN:VCALENDAR
PRODID:-//eluceo/ical//2.0/EN
VERSION:2.0
CALSCALE:GREGORIAN
BEGIN:VEVENT
UID:6fa2b9bb49a2f6d3bcd8f3b0eaabf1a6
DTSTAMP:20260420T123029Z
SUMMARY:JewishAkron Board Meeting
DESCRIPTION:Shaw JCC of Akron\nCalendar\nhttps://shawjcc.org/calendar/jewis
 hakron-board-meeting-440317\n\nSpecial Meeting
DTSTART;TZID=America/New_York:20230629T190000
DTEND;TZID=America/New_York:20230629T200000
END:VEVENT
END:VCALENDAR
