BEGIN:VCALENDAR
PRODID:-//eluceo/ical//2.0/EN
VERSION:2.0
CALSCALE:GREGORIAN
BEGIN:VEVENT
UID:319749c1a697e7d27c8400d76e373e9f
DTSTAMP:20260424T165937Z
SUMMARY:JewishAkron Board Meeting
DESCRIPTION:Shaw JCC of Akron\nCalendar\nhttps://shawjcc.org/calendar/jewis
 hakron-board-meeting-Feb25-481697\n\nMeeting of the JewishAkron Board of T
 rustees
DTSTART;TZID=America/New_York:20250226T173000
DTEND;TZID=America/New_York:20250226T190000
END:VEVENT
END:VCALENDAR
