BEGIN:VCALENDAR
PRODID:-//eluceo/ical//2.0/EN
VERSION:2.0
CALSCALE:GREGORIAN
BEGIN:VEVENT
UID:757f3afce3b746e59214a7d52903fb0a
DTSTAMP:20260420T152929Z
SUMMARY:JewishAkron Board of Trustees
DESCRIPTION:Shaw JCC of Akron\nCalendar\nhttps://shawjcc.org/calendar/jewis
 hakron-board-of-trustees-10-30-25-493403\n\nMeeting of the JewishAkron Boa
 rd of Trustees
DTSTART;TZID=America/New_York:20251030T173000
DTEND;TZID=America/New_York:20251030T190000
END:VEVENT
END:VCALENDAR
