BEGIN:VCALENDAR
PRODID:-//eluceo/ical//2.0/EN
VERSION:2.0
CALSCALE:GREGORIAN
BEGIN:VEVENT
UID:39dbb12cfe75105ed9afdf3d404b3339
DTSTAMP:20260425T231513Z
SUMMARY:JewishAkron Board of Trustees
DESCRIPTION:Shaw JCC of Akron\nCalendar\nhttps://shawjcc.org/calendar/jewis
 hakron-board-of-trustees-Dec-469758\n\nMeeting of the JewishAkron Board of
  Trustees
DTSTART;TZID=America/New_York:20241204T173000
DTEND;TZID=America/New_York:20241204T190000
END:VEVENT
END:VCALENDAR
