BEGIN:VCALENDAR
PRODID:-//eluceo/ical//2.0/EN
VERSION:2.0
CALSCALE:GREGORIAN
BEGIN:VEVENT
UID:eb44f90ae98072c2788f8a19d35bde69
DTSTAMP:20260421T032811Z
SUMMARY:JewishAkron Board of Trustees
DESCRIPTION:Shaw JCC of Akron\nCalendar\nhttps://shawjcc.org/calendar/jewis
 hakron-board-of-trustees-July-469751\n\nMeeting of the JewishAkron Board o
 f Trustees
DTSTART;TZID=America/New_York:20240725T173000
DTEND;TZID=America/New_York:20240725T190000
END:VEVENT
END:VCALENDAR
