BEGIN:VCALENDAR
PRODID:-//eluceo/ical//2.0/EN
VERSION:2.0
CALSCALE:GREGORIAN
BEGIN:VEVENT
UID:3d4f51a467298bf0d90510da40e51362
DTSTAMP:20260425T181911Z
SUMMARY:JewishAkron (JCBA) Board Meeting
DESCRIPTION:Shaw JCC of Akron\nCalendar\nhttps://shawjcc.org/calendar/jewis
 hakron-jcba-board-meeting-445027\n\n.
DTSTART;TZID=America/New_York:20230912T173000
DTEND;TZID=America/New_York:20230912T190000
END:VEVENT
END:VCALENDAR
