BEGIN:VCALENDAR
PRODID:-//eluceo/ical//2.0/EN
VERSION:2.0
CALSCALE:GREGORIAN
BEGIN:VEVENT
UID:f1fe1a22561bef504a7eb052fd9d234d
DTSTAMP:20260422T044629Z
SUMMARY:JewishAkron's Chanukah Event
DESCRIPTION:Shaw JCC of Akron\nCalendar\nhttps://shawjcc.org/calendar/jewis
 hakrons-chanukah-event-1667443745-421149\n\nA Chanukah celebration for JCB
 A donors and community members.
DTSTART;TZID=America/New_York:20221215T173000
DTEND;TZID=America/New_York:20221215T193000
END:VEVENT
END:VCALENDAR
