BEGIN:VCALENDAR
PRODID:-//eluceo/ical//2.0/EN
VERSION:2.0
CALSCALE:GREGORIAN
BEGIN:VEVENT
UID:39827707567faf70a42361dda95b8d31
DTSTAMP:20260420T202053Z
SUMMARY:Jewish Family Service Focus Group
DESCRIPTION:Shaw JCC of Akron\nCalendar\nhttps://shawjcc.org/calendar/jfs-f
 ocus-group-meeting-262853\n\nMeeting
DTSTART;TZID=America/New_York:20180326T190000
DTEND;TZID=America/New_York:20180326T203000
END:VEVENT
END:VCALENDAR
