BEGIN:VCALENDAR
PRODID:-//eluceo/ical//2.0/EN
VERSION:2.0
CALSCALE:GREGORIAN
BEGIN:VEVENT
UID:cad2b812179c2163e295c103fa5a9330
DTSTAMP:20260422T234103Z
SUMMARY:JFS Fundraising Reception Honoring Sherri Bevan Walsh
DESCRIPTION:Shaw JCC of Akron\nCalendar\nhttps://shawjcc.org/calendar/jfs-f
 undraising-event-honoring-sherri-bevan-walsh-234942\n\nPlease RSVP by Sept
 . 1st! Click here to register online.\n\nEvery day the elderly in our com
 munity are targets of scammers\, thieves and con-artists. Thankfully many 
 people in Summit County work to protect them. Summit County Prosecutor She
 rri Bevan Walsh is one of those people who work tirelessly to protect the 
 rights of the elderly of Summit County. Jewish Family Service of Akron’s
  mission is to work with our area’s most vulnerable elderly.\n\nSherri w
 ill be honored at a special recepti...
DTSTART;TZID=America/New_York:20170907T163000
DTEND;TZID=America/New_York:20170907T183000
END:VEVENT
END:VCALENDAR
