BEGIN:VCALENDAR
PRODID:-//eluceo/ical//2.0/EN
VERSION:2.0
CALSCALE:GREGORIAN
BEGIN:VEVENT
UID:1f74d6b6a5bcf0a44dff3c271e27dc87
DTSTAMP:20260426T033514Z
SUMMARY:JLI Board Training Program with BVU
DESCRIPTION:Shaw JCC of Akron\nCalendar\nhttps://shawjcc.org/calendar/jli-b
 oard-training-program-with-bvu-1499965766-238314\n\nJLI Alums program with
  BVU on nonprofit board training
DTSTART;TZID=America/New_York:20170924T170000
DTEND;TZID=America/New_York:20170924T193000
END:VEVENT
END:VCALENDAR
