BEGIN:VCALENDAR
PRODID:-//eluceo/ical//2.0/EN
VERSION:2.0
CALSCALE:GREGORIAN
BEGIN:VEVENT
UID:dc9eda6be1b84e4cd5d20bc9af050146
DTSTAMP:20260422T115544Z
SUMMARY:JLI Class 4 Informational Meeting
DESCRIPTION:Shaw JCC of Akron\nCalendar\nhttps://shawjcc.org/calendar/jli-c
 lass-4-informational-meeting-1540561442-290837\n\nJewish Leadership Initia
 tive Class 4 Informational meeting and reception.
DTSTART;TZID=America/New_York:20190127T170000
DTEND;TZID=America/New_York:20190127T190000
END:VEVENT
END:VCALENDAR
