BEGIN:VCALENDAR
PRODID:-//eluceo/ical//2.0/EN
VERSION:2.0
CALSCALE:GREGORIAN
BEGIN:VEVENT
UID:489fd448027268ccef2267136c6ffb9c
DTSTAMP:20260424T233609Z
SUMMARY:JLI (Jewish Learning Institute) Torah Class
DESCRIPTION:Shaw JCC of Akron\nCalendar\nhttps://shawjcc.org/calendar/jli-j
 ewish-learning-institute-torah-class-1546284410-297177\n\nJewish Learning 
 Institute (JLI) Torah Class of Anshe Sfard.\nThis session is at the home o
 f Paul & Miri Kogan.
DTSTART;TZID=America/New_York:20190107T193000
DTEND;TZID=America/New_York:20190107T210000
END:VEVENT
END:VCALENDAR
