BEGIN:VCALENDAR
PRODID:-//eluceo/ical//2.0/EN
VERSION:2.0
CALSCALE:GREGORIAN
BEGIN:VEVENT
UID:8e5ad53fca6f11e3207f3ab8ddc33922
DTSTAMP:20260421T175858Z
SUMMARY:JLI (Jewish Learning Institute) Torah Class
DESCRIPTION:Shaw JCC of Akron\nCalendar\nhttps://shawjcc.org/calendar/jli-j
 ewish-learning-institute-torah-class-1546284596-297178\n\nJLI Jewish Learn
 ing Institute of Anshe Sfard.\nThis session at the home of Wendy & Steve Z
 immerman.
DTSTART;TZID=America/New_York:20190114T193000
DTEND;TZID=America/New_York:20190114T210000
END:VEVENT
END:VCALENDAR
