BEGIN:VCALENDAR
PRODID:-//eluceo/ical//2.0/EN
VERSION:2.0
CALSCALE:GREGORIAN
BEGIN:VEVENT
UID:f48394593fce1a050947b838c3d98fbd
DTSTAMP:20260420T215209Z
SUMMARY:JLI Spring 2018 Session 2
DESCRIPTION:Shaw JCC of Akron\nCalendar\nhttps://shawjcc.org/calendar/jli-s
 pring-2018-session-2-1511900426-254654\n\nSecond Session of JLI Spring 201
 8
DTSTART;TZID=America/New_York:20180325T170000
DTEND;TZID=America/New_York:20180325T193000
END:VEVENT
END:VCALENDAR
