BEGIN:VCALENDAR
PRODID:-//eluceo/ical//2.0/EN
VERSION:2.0
CALSCALE:GREGORIAN
BEGIN:VEVENT
UID:8da36208e46a3164dbc6ad0ca992acee
DTSTAMP:20260425T173453Z
SUMMARY:JLI Spring 2019 Session 2
DESCRIPTION:Shaw JCC of Akron\nCalendar\nhttps://shawjcc.org/calendar/jli-s
 pring-2019-session-2-1541084478-291365\n\nJewish Leadership Initiative Spr
 ing 2019 Session 2
DTSTART;TZID=America/New_York:20190317T170000
DTEND;TZID=America/New_York:20190317T193000
END:VEVENT
END:VCALENDAR
