BEGIN:VCALENDAR
PRODID:-//eluceo/ical//2.0/EN
VERSION:2.0
CALSCALE:GREGORIAN
BEGIN:VEVENT
UID:7b1c2ce9543b5a62dcd85fe3fc773f5b
DTSTAMP:20260423T183409Z
SUMMARY:JLI Spring 2019 Session 6
DESCRIPTION:Shaw JCC of Akron\nCalendar\nhttps://shawjcc.org/calendar/jli-s
 pring-2019-session-6-1541084853-291369\n\nJewish Leadership Initiative Spr
 ing 2019 Session 6
DTSTART;TZID=America/New_York:20190519T170000
DTEND;TZID=America/New_York:20190519T193000
END:VEVENT
END:VCALENDAR
