BEGIN:VCALENDAR
PRODID:-//eluceo/ical//2.0/EN
VERSION:2.0
CALSCALE:GREGORIAN
BEGIN:VEVENT
UID:59908b26946f4a2dda557b26a754244c
DTSTAMP:20260420T170403Z
SUMMARY:Joint Annual Meeting
DESCRIPTION:Shaw JCC of Akron\nCalendar\nhttps://shawjcc.org/calendar/joint
 -annual-meeting-2024-445037\n\n.
DTSTART;TZID=America/New_York:20240605T190000
DTEND;TZID=America/New_York:20240605T203000
END:VEVENT
END:VCALENDAR
