BEGIN:VCALENDAR
PRODID:-//eluceo/ical//2.0/EN
VERSION:2.0
CALSCALE:GREGORIAN
BEGIN:VEVENT
UID:1abe521ef10d604d14303b078afdfd48
DTSTAMP:20260425T143431Z
SUMMARY:Joint Annual Meeting for Schultz Campus
DESCRIPTION:Shaw JCC of Akron\nCalendar\nhttps://shawjcc.org/calendar/joint
 -annual-meeting-for-schultz-campus-415046\n\nJoint Annual Meeting of the S
 chultz Campus Agencies and Installation of Boards
DTSTART;TZID=America/New_York:20230607T190000
DTEND;TZID=America/New_York:20230607T200000
END:VEVENT
END:VCALENDAR
