BEGIN:VCALENDAR
PRODID:-//eluceo/ical//2.0/EN
VERSION:2.0
CALSCALE:GREGORIAN
BEGIN:VEVENT
UID:152c2db62d8baf52a49f81219eccc875
DTSTAMP:20260421T092147Z
SUMMARY:Joint Annual Meeting for Schultz Campus
DESCRIPTION:Shaw JCC of Akron\nCalendar\nhttps://shawjcc.org/calendar/joint
 -annual-meeting-schultz-campus-1556808785-309234\n\nJoint Annual Meeting S
 chultz Campus via Zoom 
DTSTART;TZID=America/New_York:20200607T163000
DTEND;TZID=America/New_York:20200607T173000
END:VEVENT
END:VCALENDAR
