BEGIN:VCALENDAR
PRODID:-//eluceo/ical//2.0/EN
VERSION:2.0
CALSCALE:GREGORIAN
BEGIN:VEVENT
UID:f4f2a73d031658508edea2f35c11581b
DTSTAMP:20260425T135832Z
SUMMARY:Liz\, Holly & The Jolly Lollies Children's Concert
DESCRIPTION:Shaw JCC of Akron\nCalendar\nhttps://shawjcc.org/calendar/jolly
 -lollies-301041\n\nThis concert is recommended for children up to age seve
 n. Liz Corwin and Holly Johnson are both singer-songwriters who teamed up 
 to create Liz\, Holly\, & The Jolly Lollies. Based in Charlotte\, NC they 
 are known around the Queen City for teaching early childhood music in pres
 chools and for leading music programs for Music Together of Charlotte. Man
 y of their songs guide children in imaginative play\, encourage them to fi
 nd alternative ways to self-regulate\, and get them up and moving. Above a
 ll\,...
DTSTART;TZID=America/New_York:20190317T160000
DTEND;TZID=America/New_York:20190317T170000
END:VEVENT
END:VCALENDAR
