BEGIN:VCALENDAR
PRODID:-//eluceo/ical//2.0/EN
VERSION:2.0
CALSCALE:GREGORIAN
BEGIN:VEVENT
UID:fbccde637f9c7e7d16a829039b555846
DTSTAMP:20260424T184812Z
SUMMARY:Julian Leff Bar Mitzvah
DESCRIPTION:Shaw JCC of Akron\nCalendar\nhttps://shawjcc.org/calendar/julia
 n-leff-bar-mitzvah-177166\n\nJulian's Bar Mitzvah
DTSTART;TZID=America/New_York:20170506T103000
DTEND;TZID=America/New_York:20170506T120000
END:VEVENT
END:VCALENDAR
