BEGIN:VCALENDAR
PRODID:-//eluceo/ical//2.0/EN
VERSION:2.0
CALSCALE:GREGORIAN
BEGIN:VEVENT
UID:816933d212dc0b48cb3aba277e41fa1a
DTSTAMP:20260421T132949Z
SUMMARY:Junk in The Trunk
DESCRIPTION:Shaw JCC of Akron\nCalendar\nhttps://shawjcc.org/calendar/junk-
 in-the-trunk-387489\n\nJunk in The Trunk\n\nSunday\, September 12\, 9am - 
 1pm\n\nIt's like a giant garage sale without the hassle! Load up your car\
 , truck\, or van and haul your garage-sale type stuff down to the JCC's pa
 rking lot. Or load up your friends and family to come to buy cool stuff!
DTSTART;TZID=America/New_York:20210912T090000
DTEND;TZID=America/New_York:20210912T130000
END:VEVENT
END:VCALENDAR
