BEGIN:VCALENDAR
PRODID:-//eluceo/ical//2.0/EN
VERSION:2.0
CALSCALE:GREGORIAN
BEGIN:VEVENT
UID:cd92c9895508591ca75103cca713d84f
DTSTAMP:20260421T130743Z
SUMMARY:Kallah
DESCRIPTION:Shaw JCC of Akron\nCalendar\nhttps://shawjcc.org/calendar/kalla
 h-249218\n\nALEPH Kallah brings together hundreds of individual sparks to 
 shine more bright ly and spread that light into the world around us. Seeke
 rs of all ages and levels of Jewish experience and identity are invited to
  join the largest international Jewish Renewal gathering for immersion in 
 learning\, prayer\, art\, dance\, yoga\, meditation\, social justice\,and
  earth-based programs. Find inspiration within workshops and programming f
 acilitated by world- renowned presenters\, as well as through organic con.
 ..
DTSTART;TZID=America/New_York:20180702T090000
DTEND;TZID=America/New_York:20180708T180000
END:VEVENT
END:VCALENDAR
