BEGIN:VCALENDAR
PRODID:-//eluceo/ical//2.0/EN
VERSION:2.0
CALSCALE:GREGORIAN
BEGIN:VEVENT
UID:201ea3647557151a6da97086545744d9
DTSTAMP:20260421T045821Z
SUMMARY:Kindergarten Celebration
DESCRIPTION:Shaw JCC of Akron\nCalendar\nhttps://shawjcc.org/calendar/kinde
 rgarten-celebration-383991\n\nLippman School
DTSTART;TZID=America/New_York:20220601T140000
DTEND;TZID=America/New_York:20220601T151500
END:VEVENT
END:VCALENDAR
