BEGIN:VCALENDAR
PRODID:-//eluceo/ical//2.0/EN
VERSION:2.0
CALSCALE:GREGORIAN
BEGIN:VEVENT
UID:a8beaf4ebfc63f903b11628ff6b04f81
DTSTAMP:20260423T061625Z
SUMMARY:Kindergarten Celebration Stepping Up Ceremonies
DESCRIPTION:Shaw JCC of Akron\nCalendar\nhttps://shawjcc.org/calendar/kinde
 rgarten-celebration-stepping-up-ceremonies-335576\n\nKindergarten Graduati
 on and Stepping Up Ceremonies\n\nTime: 10:30 -11:30 AM\n\nShaw JCC Auditor
 ium\n\n 
DTSTART;TZID=America/New_York:20200608T103000
DTEND;TZID=America/New_York:20200608T113000
END:VEVENT
END:VCALENDAR
