BEGIN:VCALENDAR
PRODID:-//eluceo/ical//2.0/EN
VERSION:2.0
CALSCALE:GREGORIAN
BEGIN:VEVENT
UID:61841b18387a8287758cb05a9a6353bd
DTSTAMP:20260425T013759Z
SUMMARY:Knit-a-thon
DESCRIPTION:Shaw JCC of Akron\nCalendar\nhttps://shawjcc.org/calendar/knit-
 a-thon-1657561776-411582\n\nKnit-a-thon
DTSTART;TZID=America/New_York:20220918T100000
DTEND;TZID=America/New_York:20220918T140000
END:VEVENT
END:VCALENDAR
