BEGIN:VCALENDAR
PRODID:-//eluceo/ical//2.0/EN
VERSION:2.0
CALSCALE:GREGORIAN
BEGIN:VEVENT
UID:54bfd68527c5a5fe49d69697d9e5bd28
DTSTAMP:20260425T125657Z
SUMMARY:Knit-a-thon
DESCRIPTION:Shaw JCC of Akron\nCalendar\nhttps://shawjcc.org/calendar/knit-
 a-thon-1698253218-450865\n\nDrop in any time between 10am and 2pm. \nwww.b
 ethelakron.org
DTSTART;TZID=America/New_York:20231119T100000
DTEND;TZID=America/New_York:20231119T140000
END:VEVENT
END:VCALENDAR
