BEGIN:VCALENDAR
PRODID:-//eluceo/ical//2.0/EN
VERSION:2.0
CALSCALE:GREGORIAN
BEGIN:VEVENT
UID:9d1fd7f06282ab5d9b5da53e3c2d553e
DTSTAMP:20260422T113036Z
SUMMARY:Knitzvah
DESCRIPTION:Shaw JCC of Akron\nCalendar\nhttps://shawjcc.org/calendar/knitz
 vah-1684172769-438199\n\nKnitzvah
DTSTART;TZID=America/New_York:20230611T100000
DTEND;TZID=America/New_York:20230611T113000
END:VEVENT
END:VCALENDAR
