BEGIN:VCALENDAR
PRODID:-//eluceo/ical//2.0/EN
VERSION:2.0
CALSCALE:GREGORIAN
BEGIN:VEVENT
UID:72c31685ced5898e92943c87536e542b
DTSTAMP:20260421T182404Z
SUMMARY:Kosher By Design
DESCRIPTION:Shaw JCC of Akron\nCalendar\nhttps://shawjcc.org/calendar/koshe
 r-by-design-311713\n\nSusie Fishbein might be coming to Akron! She is a wo
 rld renowned cook book author of the series Kosher by Design. 
DTSTART;TZID=America/New_York:20190916T170000
DTEND;TZID=America/New_York:20190916T220000
END:VEVENT
END:VCALENDAR
