BEGIN:VCALENDAR
PRODID:-//eluceo/ical//2.0/EN
VERSION:2.0
CALSCALE:GREGORIAN
BEGIN:VEVENT
UID:c4ce42db35457b46dbab379dc6c86589
DTSTAMP:20260423T215230Z
SUMMARY:Anshe Sfard Ladies Chocolate Workshop
DESCRIPTION:Shaw JCC of Akron\nCalendar\nhttps://shawjcc.org/calendar/ladie
 s-chocolate-workshop-1753209535-496509\n\nCommunity ladies event at Anshe 
 Sfard
DTSTART;TZID=America/New_York:20250903T190000
DTEND;TZID=America/New_York:20250903T210000
END:VEVENT
END:VCALENDAR
