BEGIN:VCALENDAR
PRODID:-//eluceo/ical//2.0/EN
VERSION:2.0
CALSCALE:GREGORIAN
BEGIN:VEVENT
UID:8a9cc3f904e96c0ccb5370bc1a98240b
DTSTAMP:20260422T154048Z
SUMMARY:Lag B'Omer Celebration
DESCRIPTION:Shaw JCC of Akron\nCalendar\nhttps://shawjcc.org/calendar/lag-b
 omer-celebration-1731696348-480518\n\nLag B'Omer Community Picnic
DTSTART;TZID=America/New_York:20250515T170000
DTEND;TZID=America/New_York:20250515T190000
END:VEVENT
END:VCALENDAR
