BEGIN:VCALENDAR
PRODID:-//eluceo/ical//2.0/EN
VERSION:2.0
CALSCALE:GREGORIAN
BEGIN:VEVENT
UID:fb12be2aec1a797cddc59bce4963b4ec
DTSTAMP:20260424T130302Z
SUMMARY:Lag B'Omer Celebration at Anshe Sfard
DESCRIPTION:Shaw JCC of Akron\nCalendar\nhttps://shawjcc.org/calendar/lag-b
 omer-celebration-at-anshe-sfard-1561569080-315864\n\nLag B'Omer Celebratio
 n at Anshe Sfard
DTSTART;TZID=America/New_York:20200512T053000
DTEND;TZID=America/New_York:20200512T073000
END:VEVENT
END:VCALENDAR
