BEGIN:VCALENDAR
PRODID:-//eluceo/ical//2.0/EN
VERSION:2.0
CALSCALE:GREGORIAN
BEGIN:VEVENT
UID:a0cbbe759e15015594f4c01d4b8ec60d
DTSTAMP:20260421T174641Z
SUMMARY:Lag B'Omer Celebration at Anshe Sfard
DESCRIPTION:Shaw JCC of Akron\nCalendar\nhttps://shawjcc.org/calendar/lag-b
 omer-celebration-at-anshe-sfard-1594922766-358365\n\nLag B'Omer celebratio
 n at Anshe Sfard
DTSTART;TZID=America/New_York:20210430T170000
DTEND;TZID=America/New_York:20210430T190000
END:VEVENT
END:VCALENDAR
