BEGIN:VCALENDAR
PRODID:-//eluceo/ical//2.0/EN
VERSION:2.0
CALSCALE:GREGORIAN
BEGIN:VEVENT
UID:df414c54efc41d241d6b3123e94e00e1
DTSTAMP:20260420T185836Z
SUMMARY:Lag B'Omer Picnic at Anshe Sfard
DESCRIPTION:Shaw JCC of Akron\nCalendar\nhttps://shawjcc.org/calendar/lag-b
 omer-picnic-at-anshe-sfard-1663164967-417862\n\nLag B'Omer Celebration
DTSTART;TZID=America/New_York:20230509T173000
DTEND;TZID=America/New_York:20230509T200000
END:VEVENT
END:VCALENDAR
