BEGIN:VCALENDAR
PRODID:-//eluceo/ical//2.0/EN
VERSION:2.0
CALSCALE:GREGORIAN
BEGIN:VEVENT
UID:bb9cc8f20c33604b131abde0b6c9b399
DTSTAMP:20260425T190337Z
SUMMARY:L'chaim Cooking Club
DESCRIPTION:Shaw JCC of Akron\nCalendar\nhttps://shawjcc.org/calendar/lchai
 m-cooking-club-166988\n\nBy cooking and eating the treasured family recipe
 s of Jewish women in the Holocaust\, we will remember them and bring their
  recipes and memories to life. With a monthly cooking club\, participants 
 will select recipes from cookbooks such as\, In Memory’s Kitchen: A Lega
 cy from the Women of Terezin and Recipes Remembered: A Celebration of Surv
 ival\, and cook them in a community setting. Each month\, we will highligh
 t the stories of different women in the Holocaust. The cost to participate
  in each ...
DTSTART;TZID=America/New_York:20160822T180000
DTEND;TZID=America/New_York:20160822T200000
END:VEVENT
END:VCALENDAR
