BEGIN:VCALENDAR
PRODID:-//eluceo/ical//2.0/EN
VERSION:2.0
CALSCALE:GREGORIAN
BEGIN:VEVENT
UID:258247844ac5393f3ec86b71c6c54eba
DTSTAMP:20260426T000312Z
SUMMARY:Lev Tahor
DESCRIPTION:Shaw JCC of Akron\nCalendar\nhttps://shawjcc.org/calendar/lev-t
 ahor-244396\n\nJoin us for a monthly Friday night musical service\, Lev 
 Tahor\, at Beth El Congregation. Service will begin at 7pm.
DTSTART;TZID=America/New_York:20171208T190000
DTEND;TZID=America/New_York:20171208T210000
END:VEVENT
END:VCALENDAR
