BEGIN:VCALENDAR
PRODID:-//eluceo/ical//2.0/EN
VERSION:2.0
CALSCALE:GREGORIAN
BEGIN:VEVENT
UID:9fa81306c714413dc5564c0865929124
DTSTAMP:20260421T102743Z
SUMMARY:Lev Tahor & Back to Shul BBQ
DESCRIPTION:Shaw JCC of Akron\nCalendar\nhttps://shawjcc.org/calendar/lev-t
 ahor-back-to-shul-bbq-2019-307330\n\nJoin us for a monthly Friday night 
 musical service\, Lev Tahor. Service will begin at 7pm. Join us for a back
  to shul BBQ at 6 pm prior to Lev Tahor. Everything will take place at the
  JCC Camp Pavilion.
DTSTART;TZID=America/New_York:20190906T180000
DTEND;TZID=America/New_York:20190906T210000
END:VEVENT
END:VCALENDAR
