BEGIN:VCALENDAR
PRODID:-//eluceo/ical//2.0/EN
VERSION:2.0
CALSCALE:GREGORIAN
BEGIN:VEVENT
UID:df78ac4a4d6346603b4d62bc97dac0c2
DTSTAMP:20260424T153750Z
SUMMARY:Level 1 American Red Cross Swim Lessons
DESCRIPTION:Shaw JCC of Akron\nCalendar\nhttps://shawjcc.org/calendar/level
 -1-american-red-cross-swim-lessons2020\n\nLearn the foundation for basic s
 wimming skills. \n\nSwimmers will learn how to:\n\n\nBecome comfortable i
 n the water\nFront crawl (assisted)\nKick on their own\nFloat on their own
 \n\n\nMon. & Wed.\, 5:30-6p.m.\n\nOctober 26-November 18\n\nCost: $50/M $
 75/G\n\n 
DTSTART;TZID=America/New_York:20201026T173000
DTEND;TZID=America/New_York:20201026T180000
END:VEVENT
END:VCALENDAR
