BEGIN:VCALENDAR
PRODID:-//eluceo/ical//2.0/EN
VERSION:2.0
CALSCALE:GREGORIAN
BEGIN:VEVENT
UID:7f1be5249707b3890840762b878b27b3
DTSTAMP:20260422T151940Z
SUMMARY:Level 1 American Red Cross Swim Lessons
DESCRIPTION:Shaw JCC of Akron\nCalendar\nhttps://shawjcc.org/calendar/level
 -1-american-red-cross-swim-lessonssatjan\n\nLearn the foundation for basic
  swimming skills.\n\nSwimmers will learn how to:\n\n\nBecome comfortable i
 n the water\nFront crawl (assisted)\nKick on their own\nFloat on their own
 \n\n\nSat.\, Jan.4-Feb. 22\, 9:30-10 a.m.\n\nCost: $50/M $75/G\n\n603.118
DTSTART;TZID=America/New_York:20200104T103000
DTEND;TZID=America/New_York:20200104T110000
END:VEVENT
END:VCALENDAR
