BEGIN:VCALENDAR
PRODID:-//eluceo/ical//2.0/EN
VERSION:2.0
CALSCALE:GREGORIAN
BEGIN:VEVENT
UID:3f3bf4ae12c3b17dcc88e7915efb1639
DTSTAMP:20260420T151205Z
SUMMARY:Levels 4 & 5 American Red Cross Swim Lessons
DESCRIPTION:Shaw JCC of Akron\nCalendar\nhttps://shawjcc.org/calendar/level
 s-4-5-american-red-cross-swim-lessonsjan2020\n\nThis class is for swimmers
  who have completed LEVEL 3 or are able to swim unassisted. \n\nSwimmers 
 will learn how to:\n\n\nSidestroke\nTreading\nAlternate breathing\nEnduran
 ce swimming\nRefined breastroke\nButterfly\nTurns\n\n\nMon. & Wed.\, 5-5:3
 0 p.m.\, Jan. 6-29\n\nCost: $50/M $75/G\n\n603.266
DTSTART;TZID=America/New_York:20200106T183000
DTEND;TZID=America/New_York:20200106T191500
END:VEVENT
END:VCALENDAR
