BEGIN:VCALENDAR
PRODID:-//eluceo/ical//2.0/EN
VERSION:2.0
CALSCALE:GREGORIAN
BEGIN:VEVENT
UID:15d84869d4f335ecb4229b991ba8c707
DTSTAMP:20260420T151527Z
SUMMARY:Lion & Pomegranate reception
DESCRIPTION:Shaw JCC of Akron\nCalendar\nhttps://shawjcc.org/calendar/lion-
 -pomegranate-reception-1515598755-258550\n\nInvitation only Lion & Pom rec
 eption.
DTSTART;TZID=America/New_York:20180304T160000
DTEND;TZID=America/New_York:20180306T180000
END:VEVENT
END:VCALENDAR
